BEGIN:VCALENDAR
VERSION:2.0
PRODID:-//SportPlan//Event Calendar//EN
CALSCALE:GREGORIAN
BEGIN:VEVENT
UID:5f417b11-36c2-4b28-88fb-146cf8966961@sportplan.local
DTSTAMP:20260420T221152Z
DTSTART;VALUE=DATE:20260503
DTEND;VALUE=DATE:20260504
SUMMARY:Meia Maratona de Brasília 2026
DESCRIPTION:Meia Maratona de Brasília 2026 acontece em Brasília\, Distrito Federal no dia 3 de maio de 2026\, oferecendo uma ótima oportunidade para viver o clima de prova neste destino. A distância anunciada é de 21.1 km. A expectativa é de um evento animado\, com apoio local e um percurso interessante tanto para corredores experientes quanto para quem busca um novo desafio.
LOCATION:Brasília\, Distrito Federal
URL:https://sportplan.vercel.app/en/events/meia-maratona-de-bras-lia-2026-bras-lia-2026-05-03
END:VEVENT
END:VCALENDAR
