BEGIN:VCALENDAR
VERSION:2.0
PRODID:-//SportPlan//Event Calendar//EN
CALSCALE:GREGORIAN
BEGIN:VEVENT
UID:ff228849-9375-4cfb-a847-4938d3616696@sportplan.local
DTSTAMP:20260420T191738Z
DTSTART;VALUE=DATE:20260516
DTEND;VALUE=DATE:20260518
SUMMARY:Megamarsch München 2026
DESCRIPTION:Megamarsch München 2026 is an official amateur walking-hiking event in Munich\, Germany on 16-17 May 2026. The official organizer page presents a public 100 km in 24 hours format from Munich toward the Alps\, with start on Eichthalstraße in Munich and finish at the Olympia Skistadion in Garmisch-Partenkirchen.
LOCATION:Eichthalstraße\, Munich\, Germany
URL:https://sportplan.vercel.app/en/events/megamarsch-muenchen-2026-2026-05-16
END:VEVENT
END:VCALENDAR
