BEGIN:VCALENDAR
VERSION:2.0
PRODID:-//SportPlan//Event Calendar//EN
CALSCALE:GREGORIAN
BEGIN:VEVENT
UID:d029fabf-862c-412b-a93f-c920cf8a7e8b@sportplan.local
DTSTAMP:20260420T204441Z
DTSTART;VALUE=DATE:20260926
DTEND;VALUE=DATE:20260927
SUMMARY:Megamarsch Freiburg 2026
DESCRIPTION:Megamarsch Freiburg 2026 is an official amateur long-distance walking event on the Megamarsch organizer site. The official event page lists the 26 September 2026 edition with a public 50 km route through Freiburg\, the Black Forest foothills\, and vineyard landscapes\, starting and finishing at Messe Freiburg.
LOCATION:Messe Freiburg\, Neuer Messplatz 1\, 79108 Freiburg im Breisgau\, Baden-Württemberg\, Germany
URL:https://sportplan.vercel.app/en/events/megamarsch-freiburg-2026-2026-09-26
END:VEVENT
END:VCALENDAR
