BEGIN:VCALENDAR
VERSION:2.0
PRODID:-//SportPlan//Event Calendar//EN
CALSCALE:GREGORIAN
BEGIN:VEVENT
UID:46b39e45-fda4-4aee-a5c5-f4911792bac9@sportplan.local
DTSTAMP:20260420T191733Z
DTSTART;VALUE=DATE:20260523
DTEND;VALUE=DATE:20260524
SUMMARY:Megamarsch Bremen 2026
DESCRIPTION:Megamarsch Bremen 2026 is an official amateur walking-hiking participation event in Bremen\, Germany on 23 May 2026. The official Megamarsch Bremen page confirms a 50 km in 12 hours format\, start and finish at the Parkplatz am Weser-Stadion on Franz-Böhmert-Straße in Bremen\, and open ticketed participation for regular athletes.
LOCATION:Bremen
URL:https://sportplan.vercel.app/en/events/megamarsch-bremen-2026-2026-05-23
END:VEVENT
END:VCALENDAR
