BEGIN:VCALENDAR
VERSION:2.0
PRODID:-//SportPlan//Event Calendar//EN
CALSCALE:GREGORIAN
BEGIN:VEVENT
UID:7be69c90-9368-4d06-b560-5398be68df2d@sportplan.local
DTSTAMP:20260420T192722Z
DTSTART;VALUE=DATE:20261004
DTEND;VALUE=DATE:20261005
SUMMARY:Medio Maratón Ávila Monumental 2026
DESCRIPTION:Medio Maratón Ávila Monumental 2026 se celebrará en Ávila\, Ávila el 4 octubre 2026. Es una cita ideal para quienes buscan una experiencia deportiva bien organizada y un recorrido de 21.1 km. Perfecto tanto para participantes que quieren rendir al máximo como para quienes desean disfrutar del ambiente del evento.
LOCATION:Ávila\, Ávila
URL:https://sportplan.vercel.app/en/events/medio-marat-n-vila-monumental-2026-vila-2026-10-04
END:VEVENT
END:VCALENDAR
