BEGIN:VCALENDAR
VERSION:2.0
PRODID:-//SportPlan//Event Calendar//EN
CALSCALE:GREGORIAN
BEGIN:VEVENT
UID:1290e307-b616-4877-906e-b12cbbd46d65@sportplan.local
DTSTAMP:20260420T192100Z
DTSTART;VALUE=DATE:20261108
DTEND;VALUE=DATE:20261109
SUMMARY:Medio Maratón Ciudad de Salamanca 2026
DESCRIPTION:Medio Maratón Ciudad de Salamanca 2026 se celebrará el 8 de noviembre de 2026 en Salamanca\, Salamanca. Es una buena cita para quienes quieren vivir el ambiente del evento en directo y planificar la jornada con antelación. La sede prevista está a unos 21.1 km\, así que conviene revisar accesos\, horarios y servicios antes de salir.
LOCATION:Salamanca\, Salamanca
URL:https://sportplan.vercel.app/en/events/medio-marat-n-ciudad-de-salamanca-2026-salamanca-2026-11-08
END:VEVENT
END:VCALENDAR
