BEGIN:VCALENDAR
VERSION:2.0
PRODID:-//SportPlan//Event Calendar//EN
CALSCALE:GREGORIAN
BEGIN:VEVENT
UID:4a7c80a7-ad3c-4aea-88a1-e93428d1856c@sportplan.local
DTSTAMP:20260420T195013Z
DTSTART;VALUE=DATE:20261117
DTEND;VALUE=DATE:20261118
SUMMARY:Media Maraton de Vigo
DESCRIPTION:Media Maraton de Vigo se celebrará el 17 noviembre 2026 en Vigo\, Pontevedra\, Galicia\, ofreciendo una cita ideal para quienes quieren vivir el ambiente del evento desde cerca. Con una distancia aproximada de 21 km\, es una opción atractiva tanto para participantes habituales como para quienes quieren sumar un nuevo reto en el calendario.
LOCATION:Vigo\, Pontevedra\, Galicia
URL:https://sportplan.vercel.app/en/events/media-maraton-de-vigo-vigo-2026-11-17-21k
END:VEVENT
END:VCALENDAR
