BEGIN:VCALENDAR
VERSION:2.0
PRODID:-//SportPlan//Event Calendar//EN
CALSCALE:GREGORIAN
BEGIN:VEVENT
UID:3beb8ab8-88ed-4175-b520-e0030012f901@sportplan.local
DTSTAMP:20260420T192155Z
DTSTART;VALUE=DATE:20260601
DTEND;VALUE=DATE:20260602
SUMMARY:Media Maratón Cerro del Cantalar - Geopark Maestrail
DESCRIPTION:Media Maratón Cerro del Cantalar - Geopark Maestrail se celebra el 1 de junio de 2026 en Villarluengo\, Teruel\, Aragón. Es una excelente opción para quienes quieren disfrutar de un evento bien organizado en este destino. La prueba recorre 25 km. Se espera un ambiente animado y una jornada memorable tanto para corredores habituales como para debutantes.
LOCATION:Villarluengo\, Teruel\, Aragón
URL:https://sportplan.vercel.app/en/events/media-maraton-cerro-del-cantalar-geopark-maestrail-villarluengo-2026-06-01-25k
END:VEVENT
END:VCALENDAR
