BEGIN:VCALENDAR
VERSION:2.0
PRODID:-//SportPlan//Event Calendar//EN
CALSCALE:GREGORIAN
BEGIN:VEVENT
UID:9b85a768-5dda-4ad4-ad0d-924f12d5213b@sportplan.local
DTSTAMP:20260420T194031Z
DTSTART;VALUE=DATE:20260906
DTEND;VALUE=DATE:20260907
SUMMARY:Media Maratón de Santiago 2026
DESCRIPTION:Media Maratón de Santiago 2026 se celebra en Santiago\, Región Metropolitana el 6 de septiembre de 2026\, reuniendo a los participantes para una jornada deportiva con gran ambiente. El recorrido cubre aproximadamente 21.1 km. Se espera una experiencia bien organizada\, un pelotón motivado y una excelente atmósfera el día del evento.
LOCATION:Santiago\, Región Metropolitana
URL:https://sportplan.vercel.app/en/events/media-marat-n-de-santiago-2026-santiago-2026-09-06
END:VEVENT
END:VCALENDAR
