BEGIN:VCALENDAR
VERSION:2.0
PRODID:-//SportPlan//Event Calendar//EN
CALSCALE:GREGORIAN
BEGIN:VEVENT
UID:776a1bcf-79ab-4330-9bfc-1c16db6f8979@sportplan.local
DTSTAMP:20260420T180854Z
DTSTART;VALUE=DATE:20260525
DTEND;VALUE=DATE:20260526
SUMMARY:Media Circular de Tejeda
DESCRIPTION:Media Circular de Tejeda se celebrará el 25 de mayo de 2026 en Tejeda\, Gran Canaria\, Canarias. Es una cita ideal para quienes buscan disfrutar del ambiente del evento y vivir una experiencia deportiva bien organizada\, con un recorrido aproximado de 24 km. Perfecto tanto para participantes habituales como para quienes quieren sumar un nuevo reto al calendario.
LOCATION:Tejeda\, Gran Canaria\, Canarias
URL:https://sportplan.vercel.app/en/events/media-circular-de-tejeda-tejeda-2026-05-25-24-5k
END:VEVENT
END:VCALENDAR
