BEGIN:VCALENDAR
VERSION:2.0
PRODID:-//SportPlan//Event Calendar//EN
CALSCALE:GREGORIAN
BEGIN:VEVENT
UID:74a69e8a-8790-4504-bbfd-69fb843b61ee@sportplan.local
DTSTAMP:20260420T180443Z
DTSTART;VALUE=DATE:20260531
DTEND;VALUE=DATE:20260601
SUMMARY:Mcgrath Launceston Running Festival
DESCRIPTION:Mcgrath Launceston Running Festival is an event scheduled for 2026-05-31 in Launceston. It is a solid option for participants looking for a well-organized active outing. The event suits both regular participants and people who want to add a new challenge to their calendar.
LOCATION:Launceston
URL:https://sportplan.vercel.app/en/events/mcgrath-launceston-running-festival-launceston-2026-05-31
END:VEVENT
END:VCALENDAR
