BEGIN:VCALENDAR
VERSION:2.0
PRODID:-//SportPlan//Event Calendar//EN
CALSCALE:GREGORIAN
BEGIN:VEVENT
UID:46bdefa5-ef6e-405c-851f-e43a3872928a@sportplan.local
DTSTAMP:20260420T210922Z
DTSTART;VALUE=DATE:20260815
DTEND;VALUE=DATE:20260816
SUMMARY:Masai Mara Marathon 2026
DESCRIPTION:Masai Mara Marathon 2026 is scheduled for August 15\, 2026 in Masai Mara\, Narok. It offers a great opportunity to enjoy a well-organized sporting event with a strong atmosphere and an engaging course. With an expected distance of 42.2 km\, it should appeal both to regular participants and to anyone looking for a fresh challenge.
LOCATION:Masai Mara\, Narok
URL:https://sportplan.vercel.app/en/events/masai-mara-marathon-2026-masai-mara-2026-08-15
END:VEVENT
END:VCALENDAR
