BEGIN:VCALENDAR
VERSION:2.0
PRODID:-//SportPlan//Event Calendar//EN
CALSCALE:GREGORIAN
BEGIN:VEVENT
UID:186fae8a-4083-4b34-88dd-9a7fc6c00533@sportplan.local
DTSTAMP:20260420T191616Z
DTSTART;VALUE=DATE:20270131
DTEND;VALUE=DATE:20270201
SUMMARY:Marrakech Marathon 2027
DESCRIPTION:Marrakech Marathon 2027 is an official amateur road running event in Marrakech\, Morocco on 31 January 2027. The official event site announces the 37th edition with open marathon and half-marathon races\, international participation\, and bib pickup at Place de la Koutoubia in the days before the race.
LOCATION:Marrakech\, Marrakech-Safi
URL:https://sportplan.vercel.app/en/events/marrakech-marathon-2027-marrakech-2027-01-31
END:VEVENT
END:VCALENDAR
