BEGIN:VCALENDAR
VERSION:2.0
PRODID:-//SportPlan//Event Calendar//EN
CALSCALE:GREGORIAN
BEGIN:VEVENT
UID:fa0e24d3-9ea4-4598-ad4a-b85f289acf87@sportplan.local
DTSTAMP:20260420T192048Z
DTSTART;VALUE=DATE:20260603
DTEND;VALUE=DATE:20260604
SUMMARY:Maratona do Rio 2026 – Público Geral Registration (GoDream)
DESCRIPTION:Official GoDream registration page for Maratona do Rio 2026 general public entries (5K\, 10K categories)\; Brazil road running expansion via registration platform
LOCATION:Rio de Janeiro\, Brazil
URL:https://sportplan.vercel.app/en/events/maratona-do-rio-2026-publico-geral-registration-godream-2026-06-03
END:VEVENT
END:VCALENDAR
