BEGIN:VCALENDAR
VERSION:2.0
PRODID:-//SportPlan//Event Calendar//EN
CALSCALE:GREGORIAN
BEGIN:VEVENT
UID:8161afcc-8c19-4d89-a7a7-e1aa42895d5d@sportplan.local
DTSTAMP:20260420T191811Z
DTSTART;VALUE=DATE:20260603
DTEND;VALUE=DATE:20260604
SUMMARY:Maratona do Rio 2026 – FAQ (PT)
DESCRIPTION:Official Maratona do Rio FAQ in Portuguese\; confirms lottery details\, Loteria Federal draw 6 Dec 2025\; results published 10 Dec 2025\; Brazil road-running rotation
LOCATION:Rio de Janeiro\, Brazil
URL:https://sportplan.vercel.app/en/events/maratona-do-rio-2026-faq-pt-2026-06-03
END:VEVENT
END:VCALENDAR
