BEGIN:VCALENDAR
VERSION:2.0
PRODID:-//SportPlan//Event Calendar//EN
CALSCALE:GREGORIAN
BEGIN:VEVENT
UID:977a0ef8-c8ea-419a-9b44-4fdf2990d1bd@sportplan.local
DTSTAMP:20260420T192021Z
DTSTART;VALUE=DATE:20260606
DTEND;VALUE=DATE:20260607
SUMMARY:Maratona do Rio 2026 – 42K e Desafio Registration (GoDream)
DESCRIPTION:Official GoDream registration page for Maratona do Rio 2026 42K marathon and Desafio (42K+21K) categories\; VD = sorteio (lottery) winners\; Brazil road running expansion via registration platform
LOCATION:Rio de Janeiro\, Brazil
URL:https://sportplan.vercel.app/en/events/maratona-do-rio-2026-42k-e-desafio-registration-godream-2026-06-06
END:VEVENT
END:VCALENDAR
