BEGIN:VCALENDAR
VERSION:2.0
PRODID:-//SportPlan//Event Calendar//EN
CALSCALE:GREGORIAN
BEGIN:VEVENT
UID:63b72598-e90e-4a00-806c-c168f5da8772@sportplan.local
DTSTAMP:20260420T220448Z
DTSTART;VALUE=DATE:20260927
DTEND;VALUE=DATE:20260928
SUMMARY:Maratona de Curitiba 2026
DESCRIPTION:Maratona de Curitiba 2026 acontece em 27 setembro 2026\, em Curitiba\, Paraná\, reunindo participantes em uma atmosfera esportiva bem organizada e motivadora. Com um percurso de 42.2 km\, é uma ótima oportunidade para testar o ritmo\, curtir o cenário e aproveitar a energia do evento do início ao fim.
LOCATION:Curitiba\, Paraná
URL:https://sportplan.vercel.app/en/events/maratona-de-curitiba-2026-curitiba-2026-09-27
END:VEVENT
END:VCALENDAR
