BEGIN:VCALENDAR
VERSION:2.0
PRODID:-//SportPlan//Event Calendar//EN
CALSCALE:GREGORIAN
BEGIN:VEVENT
UID:e998247a-dd0a-4f72-a100-3c2bd07d3363@sportplan.local
DTSTAMP:20260420T211508Z
DTSTART;VALUE=DATE:20260705
DTEND;VALUE=DATE:20260706
SUMMARY:Marathon du Mont-Blanc 42K 2026
DESCRIPTION:Marathon du Mont-Blanc 42K 2026 aura lieu le 5 juillet 2026 à Chamonix\, Haute-Savoie. C'est un rendez-vous intéressant pour les participants à la recherche d'une expérience sportive bien organisée et d'une ambiance motivante. Le parcours couvre environ 42 km. Consultez les informations officielles de l'événement pour connaître les horaires\, le parcours et les détails logistiques.
LOCATION:Chamonix\, Haute-Savoie
URL:https://sportplan.vercel.app/en/events/marathon-du-mont-blanc-42k-2026-chamonix-2026-07-05
END:VEVENT
END:VCALENDAR
