BEGIN:VCALENDAR
VERSION:2.0
PRODID:-//SportPlan//Event Calendar//EN
CALSCALE:GREGORIAN
BEGIN:VEVENT
UID:0887f0d2-943d-4a09-9f7c-ee6ac7c4508b@sportplan.local
DTSTAMP:20260420T224518Z
DTSTART;VALUE=DATE:20260701
DTEND;VALUE=DATE:20260702
SUMMARY:Marathon Comapedrosa
DESCRIPTION:Marathon Comapedrosa aura lieu le 1 juillet 2026 à La Massana. C'est un rendez-vous intéressant pour les participants à la recherche d'une expérience sportive bien organisée et d'une ambiance motivante. Le parcours couvre environ 36 km. Consultez les informations officielles de l'événement pour connaître les horaires\, le parcours et les détails logistiques.
LOCATION:La Massana
URL:https://sportplan.vercel.app/en/events/marathon-comapedrosa-la-massana-2026-07-01-36k
END:VEVENT
END:VCALENDAR
