BEGIN:VCALENDAR
VERSION:2.0
PRODID:-//SportPlan//Event Calendar//EN
CALSCALE:GREGORIAN
BEGIN:VEVENT
UID:b5fe64d0-1092-4197-bac5-9035e8d9934b@sportplan.local
DTSTAMP:20260420T180426Z
DTSTART;VALUE=DATE:20260426
DTEND;VALUE=DATE:20260427
SUMMARY:Marathon Bresse Dombes
DESCRIPTION:Marathon Bresse Dombes aura lieu le 26 avril 2026 à Châtillon-sur-Chalaronne. C'est un rendez-vous idéal pour les coureurs à la recherche d'une course bien organisée et d'une belle ambiance le jour de l'épreuve.
LOCATION:Châtillon-sur-Chalaronne
URL:https://sportplan.vercel.app/en/events/marathon-bresse-dombes-chatillon-sur-chalaronne-2026-04-26
END:VEVENT
END:VCALENDAR
