BEGIN:VCALENDAR
VERSION:2.0
PRODID:-//SportPlan//Event Calendar//EN
CALSCALE:GREGORIAN
BEGIN:VEVENT
UID:02b56832-1213-43ed-ad33-7d7271d241f0@sportplan.local
DTSTAMP:20260420T204802Z
DTSTART;VALUE=DATE:20260711
DTEND;VALUE=DATE:20260712
SUMMARY:Maratón de Montaña Somiedo
DESCRIPTION:Maratón de Montaña Somiedo se celebrará el 11 de julio de 2026 en Pola de Somiedo\, Parque Natural Somiedo. Es una cita ideal para quienes buscan una experiencia bien organizada con un recorrido de 42 km y un ambiente deportivo atractivo. Participar en esta prueba es una gran oportunidad para disfrutar del recorrido\, marcarse un objetivo y vivir el evento junto a otros corredores.
LOCATION:Pola de Somiedo\, Parque Natural Somiedo
URL:https://sportplan.vercel.app/en/events/marat-n-de-monta-a-somiedo-pola-de-somiedo-2026-07-11
END:VEVENT
END:VCALENDAR
