BEGIN:VCALENDAR
VERSION:2.0
PRODID:-//SportPlan//Event Calendar//EN
CALSCALE:GREGORIAN
BEGIN:VEVENT
UID:628d5ab8-ea7b-490b-ac2e-054c1b8e5d26@sportplan.local
DTSTAMP:20260420T221750Z
DTSTART;VALUE=DATE:20261025
DTEND;VALUE=DATE:20261026
SUMMARY:Maratón de Bogotá 2026
DESCRIPTION:Maratón de Bogotá 2026 se celebrará el 25 de octubre de 2026 en Bogotá\, Cundinamarca\, reuniendo a participantes que buscan una jornada deportiva bien organizada. La prueba propone un recorrido de 42.2 km que combina reto y disfrute. Es una excelente oportunidad para disfrutar del ambiente local\, marcarse un objetivo de temporada y vivir el evento con buena energía.
LOCATION:Bogotá\, Cundinamarca
URL:https://sportplan.vercel.app/en/events/marat-n-de-bogot-2026-bogot-2026-10-25
END:VEVENT
END:VCALENDAR
