BEGIN:VCALENDAR
VERSION:2.0
PRODID:-//SportPlan//Event Calendar//EN
CALSCALE:GREGORIAN
BEGIN:VEVENT
UID:4676de77-6948-4218-9def-b787e4cfc906@sportplan.local
DTSTAMP:20260420T204113Z
DTSTART;VALUE=DATE:20260912
DTEND;VALUE=DATE:20260913
SUMMARY:Mammutmarsch Stuttgart 2026
DESCRIPTION:Mammutmarsch Stuttgart 2026 is an official amateur long-distance walking event on the Mammutmarsch organizer site. The official event page lists the 12 September 2026 edition in Stuttgart with 30 km\, 42 km and 60 km participation options\, starting and finishing at Kastellplatz Römerkastell and open as a public participation challenge.
LOCATION:Kastellplatz Römerkastell\, Stuttgart\, Baden-Württemberg\, Germany
URL:https://sportplan.vercel.app/en/events/mammutmarsch-stuttgart-2026
END:VEVENT
END:VCALENDAR
