BEGIN:VCALENDAR
VERSION:2.0
PRODID:-//SportPlan//Event Calendar//EN
CALSCALE:GREGORIAN
BEGIN:VEVENT
UID:890b023c-deb3-4c6b-8214-54668c99aea2@sportplan.local
DTSTAMP:20260420T191652Z
DTSTART;VALUE=DATE:20260509
DTEND;VALUE=DATE:20260510
SUMMARY:Mammutmarsch Nürnberg 2026
DESCRIPTION:Mammutmarsch Nürnberg 2026 is an official amateur walking-hiking participation event in Nuremberg\, Germany on 9 May 2026. The official Mammutmarsch Nürnberg page confirms the date\, start and finish at the Jedermannsportplatz on Hermann-Böhm-Straße\, and open 30 km\, 42 km\, and 55 km hiking formats for regular participants.
LOCATION:Nuremberg\, Bavaria
URL:https://sportplan.vercel.app/en/events/mammutmarsch-nuernberg-2026-2026-05-09
END:VEVENT
END:VCALENDAR
