BEGIN:VCALENDAR
VERSION:2.0
PRODID:-//SportPlan//Event Calendar//EN
CALSCALE:GREGORIAN
BEGIN:VEVENT
UID:850b13ae-da6f-4d3a-b837-90368e8ab6de@sportplan.local
DTSTAMP:20260420T175545Z
DTSTART;VALUE=DATE:20270220
DTEND;VALUE=DATE:20270221
SUMMARY:Mammutmarsch Madrid 2027
DESCRIPTION:Mammutmarsch Madrid 2027 is an official amateur walking-hiking event in Madrid\, Spain on 20 February 2027. The official Mammutmarsch Madrid page presents a 50 km participation format in start groups and positions it as an open challenge for regular walkers\, while stating that the exact start and finish venue details are still to be announced.
LOCATION:Madrid\, Spain
URL:https://sportplan.vercel.app/en/events/mammutmarsch-madrid-2027-2027-02-20
END:VEVENT
END:VCALENDAR
