BEGIN:VCALENDAR
VERSION:2.0
PRODID:-//SportPlan//Event Calendar//EN
CALSCALE:GREGORIAN
BEGIN:VEVENT
UID:05a90ccf-d671-487e-a8cc-8684d5d44ab2@sportplan.local
DTSTAMP:20260420T204647Z
DTSTART;VALUE=DATE:20260815
DTEND;VALUE=DATE:20260816
SUMMARY:Mammutmarsch Kopenhagen 75/100 km 2026
DESCRIPTION:Mammutmarsch Kopenhagen 75/100 km 2026 is an official amateur walking-hiking participation event in Vedbæk\, Denmark on 15 August 2026. The official Mammutmarsch event page confirms the date\, start and finish at Vedbæk Strandvej 366\, 2950 Vedbæk\, Denmark\, and open 75 km and 100 km hiking formats for regular participants.
LOCATION:Vedbæk\, Capital Region of Denmark
URL:https://sportplan.vercel.app/en/events/mammutmarsch-kopenhagen-75-100-km-2026-2026-08-15
END:VEVENT
END:VCALENDAR
