BEGIN:VCALENDAR
VERSION:2.0
PRODID:-//SportPlan//Event Calendar//EN
CALSCALE:GREGORIAN
BEGIN:VEVENT
UID:b1793f83-b5c5-42cf-96b6-6f6a80fc7753@sportplan.local
DTSTAMP:20260420T191302Z
DTSTART;VALUE=DATE:20260606
DTEND;VALUE=DATE:20260607
SUMMARY:Mammutmarsch Dresden 2026
DESCRIPTION:Mammutmarsch Dresden 2026 is an official amateur walking-hiking participation event in Dresden\, Germany on 6 June 2026. The official Mammutmarsch Dresden page confirms the 2026 date\, start and finish at Rinne Dresden\, and open 30 km and 50 km hiking formats for regular participants.
LOCATION:Dresden\, Saxony
URL:https://sportplan.vercel.app/en/events/mammutmarsch-dresden-2026-2026-06-06
END:VEVENT
END:VCALENDAR
