BEGIN:VCALENDAR
VERSION:2.0
PRODID:-//SportPlan//Event Calendar//EN
CALSCALE:GREGORIAN
BEGIN:VEVENT
UID:814fd163-e104-471b-9b4e-d8da3d016636@sportplan.local
DTSTAMP:20260420T191740Z
DTSTART;VALUE=DATE:20260502
DTEND;VALUE=DATE:20260503
SUMMARY:Mammutmarsch Copenhagen 2026
DESCRIPTION:Mammutmarsch Copenhagen 2026 is an official amateur walking-hiking participation event in Kongens Lyngby\, Denmark on 2 May 2026. The official Mammutmarsch event page confirms the 2026 date\, start location\, and open 30 km\, 42 km\, and 55 km hiking formats for regular participants.
LOCATION:Kongens Lyngby\, Capital Region of Denmark
URL:https://sportplan.vercel.app/en/events/mammutmarsch-copenhagen-2026-2026-05-02
END:VEVENT
END:VCALENDAR
