BEGIN:VCALENDAR
VERSION:2.0
PRODID:-//SportPlan//Event Calendar//EN
CALSCALE:GREGORIAN
BEGIN:VEVENT
UID:82bbf6ab-e9f1-482b-9208-455e576770c7@sportplan.local
DTSTAMP:20260420T204243Z
DTSTART;VALUE=DATE:20261003
DTEND;VALUE=DATE:20261004
SUMMARY:Mammutmarsch Aarhus 2026
DESCRIPTION:Mammutmarsch Aarhus 2026 is an official amateur walking-hiking participation event in Aarhus\, Denmark on 3 October 2026. The official Mammutmarsch Aarhus page confirms the 2026 date\, start and finish at Tankrogen on Marselisborg Havnevej 1\, and open 30 km and 50 km hiking formats for regular participants.
LOCATION:Aarhus\, Central Denmark Region
URL:https://sportplan.vercel.app/en/events/mammutmarsch-aarhus-2026-2026-10-03
END:VEVENT
END:VCALENDAR
