BEGIN:VCALENDAR
VERSION:2.0
PRODID:-//SportPlan//Event Calendar//EN
CALSCALE:GREGORIAN
BEGIN:VEVENT
UID:ba8344e0-b9a8-4f07-a348-a7b7bc4c3a71@sportplan.local
DTSTAMP:20260420T204810Z
DTSTART;VALUE=DATE:20260606
DTEND;VALUE=DATE:20260607
SUMMARY:Malerweg Trail 50K 2026
DESCRIPTION:Malerweg Trail 50K 2026 findet am 6. Juni 2026 in Bad Schandau\, Sachsen statt. Die Veranstaltung ist eine gute Wahl für alle\, die eine gut organisierte Herausforderung in attraktiver Umgebung suchen über etwa 50 km. Ideal\, um die Saison zu planen\, die Event-Atmosphäre zu genießen und im eigenen Tempo zu starten.
LOCATION:Bad Schandau\, Sachsen
URL:https://sportplan.vercel.app/en/events/malerweg-trail-50k-2026-bad-schandau-2026-06-06
END:VEVENT
END:VCALENDAR
