BEGIN:VCALENDAR
VERSION:2.0
PRODID:-//SportPlan//Event Calendar//EN
CALSCALE:GREGORIAN
BEGIN:VEVENT
UID:d5620ccd-8447-4d5a-88f4-f455745fb5a2@sportplan.local
DTSTAMP:20260420T192038Z
DTSTART;VALUE=DATE:20260913
DTEND;VALUE=DATE:20260914
SUMMARY:Mairiporã Trail 2026 (8K/12K/21K/43K)
DESCRIPTION:Discovered via direct fetch of corridasdemontanha.com.br/calendario\; Brazilian mountain trail running circuit 2026 – Mairiporã stage.
LOCATION:Mairiporã\, São Paulo\, Brazil
URL:https://sportplan.vercel.app/en/events/mairipora-trail-2026-8k-12k-21k-43k-2026-09-13
END:VEVENT
END:VCALENDAR
