BEGIN:VCALENDAR
VERSION:2.0
PRODID:-//SportPlan//Event Calendar//EN
CALSCALE:GREGORIAN
BEGIN:VEVENT
UID:4cecad3e-ad85-491c-affd-42077f282fe3@sportplan.local
DTSTAMP:20260420T204327Z
DTSTART;VALUE=DATE:20261025
DTEND;VALUE=DATE:20261026
SUMMARY:Mainova Frankfurt Marathon
DESCRIPTION:verified official event site via web_fetch
LOCATION:Frankfurt\, Germany
URL:https://sportplan.vercel.app/en/events/mainova-frankfurt-marathon-2026-10-25
END:VEVENT
END:VCALENDAR
