BEGIN:VCALENDAR
VERSION:2.0
PRODID:-//SportPlan//Event Calendar//EN
CALSCALE:GREGORIAN
BEGIN:VEVENT
UID:613b39a7-8ec1-458f-9702-75a4c4a6fe24@sportplan.local
DTSTAMP:20260420T192115Z
DTSTART;VALUE=DATE:20260425
DTEND;VALUE=DATE:20260426
SUMMARY:Madeira Island Ultra Trail Miut 115K 2026
DESCRIPTION:Madeira Island Ultra Trail Miut 115K 2026 acontece em Machico\, Madeira no dia 25 de abril de 2026. É uma ótima oportunidade para viver um dia especial de corrida\, com um percurso de 115 km\, ideal tanto para buscar ritmo quanto para aproveitar o ambiente local. Seja para buscar desempenho ou curtir o percurso com tranquilidade\, o evento entrega uma experiência envolvente para todos os participantes.
LOCATION:Machico\, Madeira
URL:https://sportplan.vercel.app/en/events/madeira-island-ultra-trail-miut-115k-2026-machico-2026-04-25
END:VEVENT
END:VCALENDAR
