BEGIN:VCALENDAR
VERSION:2.0
PRODID:-//SportPlan//Event Calendar//EN
CALSCALE:GREGORIAN
BEGIN:VEVENT
UID:bda7c07d-8adf-43a8-8f4e-85b451eb0b2e@sportplan.local
DTSTAMP:20260420T191813Z
DTSTART;VALUE=DATE:20260606
DTEND;VALUE=DATE:20260608
SUMMARY:Maastrichts Mooiste
DESCRIPTION:Maastrichts Mooiste vindt plaats op 6 juni 2026 in Maastricht. Het is een mooie keuze voor deelnemers die willen genieten van een goed georganiseerd evenement op deze bestemming. Reken op een motiverende sfeer en een geslaagde dag voor zowel ervaren deelnemers als nieuwkomers.
LOCATION:Maastricht
URL:https://sportplan.vercel.app/en/events/maastrichts-mooiste-maastricht-2026-06-06
END:VEVENT
END:VCALENDAR
