BEGIN:VCALENDAR
VERSION:2.0
PRODID:-//SportPlan//Event Calendar//EN
CALSCALE:GREGORIAN
BEGIN:VEVENT
UID:cc43e05d-8465-4c0b-b4cb-70f90aaa1a67@sportplan.local
DTSTAMP:20260420T195037Z
DTSTART;VALUE=DATE:20260425
DTEND;VALUE=DATE:20260501
SUMMARY:Lycian Way Ultra 250K 2026
DESCRIPTION:Lycian Way Ultra 250K 2026 takes place in Fethiye\, Muğla on April 25\, 2026. It offers a great chance to enjoy a memorable day of running\, with a 250 km course\, making it a solid option both for racing hard and enjoying the local atmosphere. Whether the goal is a strong result or simply soaking up the event atmosphere\, runners can expect an engaging experience from start to finish.
LOCATION:Fethiye\, Muğla
URL:https://sportplan.vercel.app/en/events/lycian-way-ultra-250k-2026-fethiye-2026-04-25
END:VEVENT
END:VCALENDAR
