BEGIN:VCALENDAR
VERSION:2.0
PRODID:-//SportPlan//Event Calendar//EN
CALSCALE:GREGORIAN
BEGIN:VEVENT
UID:2745feb2-7a2c-416c-bb13-5ba50e81bd38@sportplan.local
DTSTAMP:20260420T194713Z
DTSTART;VALUE=DATE:20260514
DTEND;VALUE=DATE:20260515
SUMMARY:Lutgarde Trail
DESCRIPTION:Lutgarde Trail a lieu le 14 mai 2026 à Lasne. C'est un excellent choix pour les participants à la recherche d'une épreuve bien organisée dans un cadre agréable. Un rendez-vous idéal pour profiter du parcours\, de l'ambiance et d'une belle journée sportive.
LOCATION:Lasne
URL:https://sportplan.vercel.app/en/events/lutgarde-trail-lasne-2026-05-14
END:VEVENT
END:VCALENDAR
