BEGIN:VCALENDAR
VERSION:2.0
PRODID:-//SportPlan//Event Calendar//EN
CALSCALE:GREGORIAN
BEGIN:VEVENT
UID:5b83d558-724a-4b37-9770-9afd8f059e26@sportplan.local
DTSTAMP:20260420T191935Z
DTSTART;VALUE=DATE:20260426
DTEND;VALUE=DATE:20260427
SUMMARY:Love Tiles Douro Granfondo
DESCRIPTION:Love Tiles Douro Granfondo 2026 is an official amateur road cycling granfondo in Peso da Régua\, Portugal on 26 April 2026. The official organizer page presents three public routes\, 69 km minifondo\, 100 km mediofondo and 135 km granfondo\, through Douro vineyard country including Lamego\, Tarouca\, Moimenta da Beira\, Armamar\, Tabuaço and São João da Pesqueira.
LOCATION:Peso da Régua\, Vila Real\, Portugal
URL:https://sportplan.vercel.app/en/events/love-tiles-douro-granfondo-peso-da-regua-2026-04-26
END:VEVENT
END:VCALENDAR
