BEGIN:VCALENDAR
VERSION:2.0
PRODID:-//SportPlan//Event Calendar//EN
CALSCALE:GREGORIAN
BEGIN:VEVENT
UID:fca44c92-7ef0-43ef-a285-20a6ea9648e3@sportplan.local
DTSTAMP:20260420T211024Z
DTSTART;VALUE=DATE:20260524
DTEND;VALUE=DATE:20260525
SUMMARY:Lough Cutra Castle Multisport Festival
DESCRIPTION:Official Castle Race Series event page for the Lough Cutra Castle Multisport Festival in County Galway. The official 2026 event page lists Sunday 24 May 2026 and describes a weekend of triathlon\, duathlon\, aquabike\, aquathlon\, swim\, and run events for all ages and abilities at Lough Cutra Castle.
LOCATION:Lough Cutra Castle\, County Galway
URL:https://sportplan.vercel.app/en/events/lough-cutra-castle-multisport-festival-lough-cutra-2026-05-23
END:VEVENT
END:VCALENDAR
