BEGIN:VCALENDAR
VERSION:2.0
PRODID:-//SportPlan//Event Calendar//EN
CALSCALE:GREGORIAN
BEGIN:VEVENT
UID:b7ea8481-2a4c-4f13-8b2a-9d4b23453c55@sportplan.local
DTSTAMP:20260420T205827Z
DTSTART;VALUE=DATE:20261106
DTEND;VALUE=DATE:20261107
SUMMARY:Lola Challenge Weekend
DESCRIPTION:Fetched from AIMS race information page\; confirms forthcoming 2026 event.
LOCATION:San Juan\, Puerto Rico
URL:https://sportplan.vercel.app/en/events/lola-challenge-weekend-2026-11-06
END:VEVENT
END:VCALENDAR
