BEGIN:VCALENDAR
VERSION:2.0
PRODID:-//SportPlan//Event Calendar//EN
CALSCALE:GREGORIAN
BEGIN:VEVENT
UID:a4aed846-e68a-48de-9156-bebf8ed0d1db@sportplan.local
DTSTAMP:20260420T180423Z
DTSTART;VALUE=DATE:20260517
DTEND;VALUE=DATE:20260518
SUMMARY:Logan Running Festival
DESCRIPTION:
LOCATION:Berrinba
URL:https://sportplan.vercel.app/en/events/logan-running-festival-berrinba-2026-05-17
END:VEVENT
END:VCALENDAR
