BEGIN:VCALENDAR
VERSION:2.0
PRODID:-//SportPlan//Event Calendar//EN
CALSCALE:GREGORIAN
BEGIN:VEVENT
UID:37769eca-a7d2-4fdb-9818-6ab685611235@sportplan.local
DTSTAMP:20260420T210927Z
DTSTART;VALUE=DATE:20260605
DTEND;VALUE=DATE:20260608
SUMMARY:Lofoten Ultra Trail 100m 2026
DESCRIPTION:Lofoten Ultra Trail 100m 2026 arrangeres 5. juni 2026 i Svolvær\, Nordland. Dette er et godt valg for deltakere som ønsker et godt organisert arrangement på denne destinasjonen. Løpet går over 160 km. Her ligger alt til rette for en motiverende stemning og en minneverdig dag\, både for erfarne deltakere og nybegynnere.
LOCATION:Svolvær\, Nordland
URL:https://sportplan.vercel.app/en/events/lofoten-ultra-trail-100m-2026-svolv-r-2026-06-05
END:VEVENT
END:VCALENDAR
