BEGIN:VCALENDAR
VERSION:2.0
PRODID:-//SportPlan//Event Calendar//EN
CALSCALE:GREGORIAN
BEGIN:VEVENT
UID:8e27b83f-a56e-4967-a251-bfdcf752b90d@sportplan.local
DTSTAMP:20260420T204753Z
DTSTART;VALUE=DATE:20261010
DTEND;VALUE=DATE:20261012
SUMMARY:Lipno nad Vltavou Spartan Trifecta Weekend 2026
DESCRIPTION:The official Spartan Czech Republic race page lists Lipno nad Vltavou Spartan Trifecta Weekend from 10 to 11 October 2026. It offers Sprint\, Super\, Beast and Kids races for amateur participants across a full weekend program.
LOCATION:Lipno nad Vltavou
URL:https://sportplan.vercel.app/en/events/lipno-nad-vltavou-spartan-trifecta-weekend-2026-lipno-nad-vltavou-2026-10-10
END:VEVENT
END:VCALENDAR
