BEGIN:VCALENDAR
VERSION:2.0
PRODID:-//SportPlan//Event Calendar//EN
CALSCALE:GREGORIAN
BEGIN:VEVENT
UID:9d72c299-01ba-4245-929a-ef62118453a6@sportplan.local
DTSTAMP:20260420T180607Z
DTSTART;VALUE=DATE:20260620
DTEND;VALUE=DATE:20260621
SUMMARY:Lions Roar - Cycling for Our Community
DESCRIPTION:
LOCATION:Portland
URL:https://sportplan.vercel.app/en/events/lions-roar-cycling-for-our-community-portland-2026-06-20
END:VEVENT
END:VCALENDAR
