BEGIN:VCALENDAR
VERSION:2.0
PRODID:-//SportPlan//Event Calendar//EN
CALSCALE:GREGORIAN
BEGIN:VEVENT
UID:66fc2ca5-0d9b-4ece-a49e-ac3e45f39430@sportplan.local
DTSTAMP:20260420T163743Z
DTSTART;VALUE=DATE:20260420
DTEND;VALUE=DATE:20260421
SUMMARY:Linnaorienteerumine
DESCRIPTION:Linnaorienteerumine is an official amateur urban orienteering event in Tallinn\, Estonia on 20 April 2026. The official Estonian Orienteering Federation calendar page confirms the date and organizer\, while the official Linnaorienteerumine site provides the 2026 stage details for Tondiraba park\, opening hours\, participation fees\, and map-center coordinates.
LOCATION:Tondiraba park\, Tallinn\, Estonia
URL:https://sportplan.vercel.app/en/events/linnaorienteerumine-tallinn-2026-04-20
END:VEVENT
END:VCALENDAR
