BEGIN:VCALENDAR
VERSION:2.0
PRODID:-//SportPlan//Event Calendar//EN
CALSCALE:GREGORIAN
BEGIN:VEVENT
UID:dc045d00-0757-4888-8aea-fecd101a5af2@sportplan.local
DTSTAMP:20260420T181146Z
DTSTART;VALUE=DATE:20261231
DTEND;VALUE=DATE:20270101
SUMMARY:Liga OCR Canaria 2026 — Cuota de Inscripción Liga OCR Canaria
DESCRIPTION:Liga OCR Canaria 2026 — Cuota de Inscripción Liga OCR Canaria se celebrará el 31 de diciembre de 2026 en Telde. Es una cita ideal para quienes quieren disfrutar del ambiente del evento en ES. Perfecto para planear la jornada con antelación y vivir una experiencia deportiva bien organizada.
LOCATION:Telde
URL:https://sportplan.vercel.app/en/events/liga-ocr-canaria-2026-cuota-de-inscripcion-liga-ocr-canaria-telde-2026-12-31
END:VEVENT
END:VCALENDAR
