BEGIN:VCALENDAR
VERSION:2.0
PRODID:-//SportPlan//Event Calendar//EN
CALSCALE:GREGORIAN
BEGIN:VEVENT
UID:ff19aa42-655a-4a15-aa44-bd870005de13@sportplan.local
DTSTAMP:20260420T204603Z
DTSTART;VALUE=DATE:20260704
DTEND;VALUE=DATE:20260705
SUMMARY:Liepājas triatlons\, LČ sprintā\, LK posms
DESCRIPTION:Kiki
LOCATION:Liepāja\, Latvia
URL:https://sportplan.vercel.app/en/events/liepajas-triatlons-lc-sprinta-lk-posms-2026-07-04
END:VEVENT
END:VCALENDAR
