BEGIN:VCALENDAR
VERSION:2.0
PRODID:-//SportPlan//Event Calendar//EN
CALSCALE:GREGORIAN
BEGIN:VEVENT
UID:661f0029-8724-4a41-ba45-c732d9dd7218@sportplan.local
DTSTAMP:20260420T210713Z
DTSTART;VALUE=DATE:20260627
DTEND;VALUE=DATE:20260628
SUMMARY:Lewa Safari Marathon – Travel & Accommodation
DESCRIPTION:Official accommodation and travel page\; logistics for runners at Lewa Conservancy\; stable event sub-page for travel planning component
LOCATION:Lewa Wildlife Conservancy\, Kenya
URL:https://sportplan.vercel.app/en/events/lewa-safari-marathon-travel-accommodation-2026-06-27
END:VEVENT
END:VCALENDAR
