BEGIN:VCALENDAR
VERSION:2.0
PRODID:-//SportPlan//Event Calendar//EN
CALSCALE:GREGORIAN
BEGIN:VEVENT
UID:e8e491a9-6c78-4638-a1c7-51d4d771ba2f@sportplan.local
DTSTAMP:20260420T210729Z
DTSTART;VALUE=DATE:20260627
DTEND;VALUE=DATE:20260628
SUMMARY:Lewa Safari Marathon 2026 – Registration
DESCRIPTION:Official runner registration page for Lewa Safari Marathon 2026 (Kenyan/EA citizens)\; direct registration URL confirmed accessible
LOCATION:Lewa Wildlife Conservancy\, Laikipia\, Kenya
URL:https://sportplan.vercel.app/en/events/lewa-safari-marathon-2026-registration-2026-06-27
END:VEVENT
END:VCALENDAR
