BEGIN:VCALENDAR
VERSION:2.0
PRODID:-//SportPlan//Event Calendar//EN
CALSCALE:GREGORIAN
BEGIN:VEVENT
UID:0a7bb774-57a7-4274-a7df-21b401765d71@sportplan.local
DTSTAMP:20260420T210921Z
DTSTART;VALUE=DATE:20260627
DTEND;VALUE=DATE:20260628
SUMMARY:Lewa Safari Marathon 2026
DESCRIPTION:
LOCATION:Lewa Downs\, Meru
URL:https://sportplan.vercel.app/en/events/lewa-safari-marathon-2026-lewa-downs-2026-06-27
END:VEVENT
END:VCALENDAR
