BEGIN:VCALENDAR
VERSION:2.0
PRODID:-//SportPlan//Event Calendar//EN
CALSCALE:GREGORIAN
BEGIN:VEVENT
UID:bd87cd60-32c1-4636-97bf-5d0ff8a3bf02@sportplan.local
DTSTAMP:20260420T211009Z
DTSTART;VALUE=DATE:20260627
DTEND;VALUE=DATE:20260628
SUMMARY:Lewa Safari Marathon 2026 (Kenya / East Africa registrations)
DESCRIPTION:Official Kenyan-resident registration site for Lewa Safari Marathon 2026\; registration confirmed open for East African citizens and Kenyan residents\; direct companion page to international site
LOCATION:Lewa Wildlife Conservancy\, Laikipia\, Kenya
URL:https://sportplan.vercel.app/en/events/lewa-safari-marathon-2026-kenya-east-africa-registrations-2026-06-27
END:VEVENT
END:VCALENDAR
